BEGIN:VCALENDAR
VERSION:2.0
PRODID:-//TCNYNJ - ECPv6.15.20//NONSGML v1.0//EN
CALSCALE:GREGORIAN
METHOD:PUBLISH
X-WR-CALNAME:TCNYNJ
X-ORIGINAL-URL:https://tcnynj.org
X-WR-CALDESC:Events for TCNYNJ
REFRESH-INTERVAL;VALUE=DURATION:PT1H
X-Robots-Tag:noindex
X-PUBLISHED-TTL:PT1H
BEGIN:VTIMEZONE
TZID:America/New_York
BEGIN:DAYLIGHT
TZOFFSETFROM:-0500
TZOFFSETTO:-0400
TZNAME:EDT
DTSTART:20130310T070000
END:DAYLIGHT
BEGIN:STANDARD
TZOFFSETFROM:-0400
TZOFFSETTO:-0500
TZNAME:EST
DTSTART:20131103T060000
END:STANDARD
BEGIN:DAYLIGHT
TZOFFSETFROM:-0500
TZOFFSETTO:-0400
TZNAME:EDT
DTSTART:20140309T070000
END:DAYLIGHT
BEGIN:STANDARD
TZOFFSETFROM:-0400
TZOFFSETTO:-0500
TZNAME:EST
DTSTART:20141102T060000
END:STANDARD
BEGIN:DAYLIGHT
TZOFFSETFROM:-0500
TZOFFSETTO:-0400
TZNAME:EDT
DTSTART:20150308T070000
END:DAYLIGHT
BEGIN:STANDARD
TZOFFSETFROM:-0400
TZOFFSETTO:-0500
TZNAME:EST
DTSTART:20151101T060000
END:STANDARD
BEGIN:DAYLIGHT
TZOFFSETFROM:-0500
TZOFFSETTO:-0400
TZNAME:EDT
DTSTART:20160313T070000
END:DAYLIGHT
BEGIN:STANDARD
TZOFFSETFROM:-0400
TZOFFSETTO:-0500
TZNAME:EST
DTSTART:20161106T060000
END:STANDARD
BEGIN:DAYLIGHT
TZOFFSETFROM:-0500
TZOFFSETTO:-0400
TZNAME:EDT
DTSTART:20170312T070000
END:DAYLIGHT
BEGIN:STANDARD
TZOFFSETFROM:-0400
TZOFFSETTO:-0500
TZNAME:EST
DTSTART:20171105T060000
END:STANDARD
BEGIN:DAYLIGHT
TZOFFSETFROM:-0500
TZOFFSETTO:-0400
TZNAME:EDT
DTSTART:20180311T070000
END:DAYLIGHT
BEGIN:STANDARD
TZOFFSETFROM:-0400
TZOFFSETTO:-0500
TZNAME:EST
DTSTART:20181104T060000
END:STANDARD
BEGIN:DAYLIGHT
TZOFFSETFROM:-0500
TZOFFSETTO:-0400
TZNAME:EDT
DTSTART:20190310T070000
END:DAYLIGHT
BEGIN:STANDARD
TZOFFSETFROM:-0400
TZOFFSETTO:-0500
TZNAME:EST
DTSTART:20191103T060000
END:STANDARD
BEGIN:DAYLIGHT
TZOFFSETFROM:-0500
TZOFFSETTO:-0400
TZNAME:EDT
DTSTART:20200308T070000
END:DAYLIGHT
BEGIN:STANDARD
TZOFFSETFROM:-0400
TZOFFSETTO:-0500
TZNAME:EST
DTSTART:20201101T060000
END:STANDARD
BEGIN:DAYLIGHT
TZOFFSETFROM:-0500
TZOFFSETTO:-0400
TZNAME:EDT
DTSTART:20210314T070000
END:DAYLIGHT
BEGIN:STANDARD
TZOFFSETFROM:-0400
TZOFFSETTO:-0500
TZNAME:EST
DTSTART:20211107T060000
END:STANDARD
BEGIN:DAYLIGHT
TZOFFSETFROM:-0500
TZOFFSETTO:-0400
TZNAME:EDT
DTSTART:20220313T070000
END:DAYLIGHT
BEGIN:STANDARD
TZOFFSETFROM:-0400
TZOFFSETTO:-0500
TZNAME:EST
DTSTART:20221106T060000
END:STANDARD
BEGIN:DAYLIGHT
TZOFFSETFROM:-0500
TZOFFSETTO:-0400
TZNAME:EDT
DTSTART:20230312T070000
END:DAYLIGHT
BEGIN:STANDARD
TZOFFSETFROM:-0400
TZOFFSETTO:-0500
TZNAME:EST
DTSTART:20231105T060000
END:STANDARD
END:VTIMEZONE
BEGIN:VEVENT
DTSTART;TZID=America/New_York:20221118T080000
DTEND;TZID=America/New_York:20221120T170000
DTSTAMP:20260420T001313
CREATED:20221115T224727Z
LAST-MODIFIED:20221115T225242Z
UID:24091-1668758400-1668963600@tcnynj.org
SUMMARY:Kagyu Monlam 2022
DESCRIPTION:
URL:https://tcnynj.org/event/kagyu-monlam-2022/
LOCATION:Phuntsok Deshe Hall\, 3201 57th Street\, Woodside\, NY\, 11377\, United States
CATEGORIES:Karmapa,Occassions
ATTACH;FMTTYPE=image/jpeg:https://tcnynj.org/wp-content/uploads/2022/11/karmapa-poster.jpeg
END:VEVENT
BEGIN:VEVENT
DTSTART;VALUE=DATE:20181208
DTEND;VALUE=DATE:20181209
DTSTAMP:20260420T001313
CREATED:20180110T144034Z
LAST-MODIFIED:20180110T144034Z
UID:23352-1544227200-1544313599@tcnynj.org
SUMMARY:Nobel Peace Prize Celebration
DESCRIPTION:
URL:https://tcnynj.org/event/nobel-peace-prize-celebration/
LOCATION:Phuntsok Deshe Hall\, 3201 57th Street\, Woodside\, NY\, 11377\, United States
CATEGORIES:Celebrations,Dalai Lama,Occassions
ATTACH;FMTTYPE=image/jpeg:https://tcnynj.org/wp-content/uploads/2018/01/HH-Dalai-Lama-Nobel-Peace-Prize-1.jpg
ORGANIZER;CN="The Tibetan Community of New York & New Jersey":MAILTO:info@tcnynj.org
END:VEVENT
BEGIN:VEVENT
DTSTART;VALUE=DATE:20180708
DTEND;VALUE=DATE:20180709
DTSTAMP:20260420T001313
CREATED:20180330T024417Z
LAST-MODIFIED:20180625T221117Z
UID:23382-1531008000-1531094399@tcnynj.org
SUMMARY:Trungkar Picnic Day
DESCRIPTION:
URL:https://tcnynj.org/event/trungkar-picnic-day/
LOCATION:Ederle BBQ Park\, FLUSHING MEADOWS PARK\, CORONA\, United States
CATEGORIES:Celebrations,Dalai Lama,Occassions
ORGANIZER;CN="The Tibetan Community of New York & New Jersey":MAILTO:info@tcnynj.org
END:VEVENT
BEGIN:VEVENT
DTSTART;VALUE=DATE:20180707
DTEND;VALUE=DATE:20180708
DTSTAMP:20260420T001313
CREATED:20180110T143823Z
LAST-MODIFIED:20180625T221145Z
UID:23350-1530921600-1531007999@tcnynj.org
SUMMARY:H. H The 14th Dalai Lama Birthday
DESCRIPTION:
URL:https://tcnynj.org/event/h-h-the-14th-dalai-lama-birthday/
LOCATION:Armenian Church\, 630 Second Avenue\, New York\, NY\, 10016\, United States
CATEGORIES:Celebrations,Dalai Lama,Occassions
ATTACH;FMTTYPE=image/jpeg:https://tcnynj.org/wp-content/uploads/2014/12/His-Holiness-the-Dalai-Lama.jpg
ORGANIZER;CN="The Tibetan Community of New York & New Jersey":MAILTO:info@tcnynj.org
END:VEVENT
BEGIN:VEVENT
DTSTART;TZID=America/New_York:20170708T100000
DTEND;TZID=America/New_York:20170708T180000
DTSTAMP:20260420T001313
CREATED:20170116T172104Z
LAST-MODIFIED:20170613T020926Z
UID:23270-1499508000-1499536800@tcnynj.org
SUMMARY:Trungkhar Public Picnic
DESCRIPTION:
URL:https://tcnynj.org/event/trungkhar-public-picnic/
LOCATION:Inwood Hill Park\, 183-185 Seaman Ave\, New York\, NY\, 10452\, United States
CATEGORIES:Celebrations,Dalai Lama,Occassions
ORGANIZER;CN="The Tibetan Community of New York & New Jersey":MAILTO:info@tcnynj.org
END:VEVENT
BEGIN:VEVENT
DTSTART;TZID=America/New_York:20170310T070000
DTEND;TZID=America/New_York:20170310T180000
DTSTAMP:20260420T001313
CREATED:20170116T171833Z
LAST-MODIFIED:20170116T171833Z
UID:23266-1489129200-1489168800@tcnynj.org
SUMMARY:Tibetan National Uprising Day
DESCRIPTION:
URL:https://tcnynj.org/event/tibetan-national-uprising-day/
LOCATION:United Nations\, United Nations Headquaters\, New York\, 10017
CATEGORIES:Occassions,Protest,Rally
ORGANIZER;CN="The Tibetan Community of New York & New Jersey":MAILTO:info@tcnynj.org
END:VEVENT
BEGIN:VEVENT
DTSTART;VALUE=DATE:20170304
DTEND;VALUE=DATE:20170305
DTSTAMP:20260420T001313
CREATED:20170116T171722Z
LAST-MODIFIED:20170205T180514Z
UID:23264-1488585600-1488671999@tcnynj.org
SUMMARY:Tibetan New Year Celebration
DESCRIPTION:
URL:https://tcnynj.org/event/tibetan-new-year-celeberation/
LOCATION:Armenian Church\, 630 Second Avenue\, New York\, NY\, 10016\, United States
CATEGORIES:Celebrations,Losar,New Year,Occassions
ORGANIZER;CN="The Tibetan Community of New York & New Jersey":MAILTO:info@tcnynj.org
END:VEVENT
BEGIN:VEVENT
DTSTART;TZID=America/New_York:20160310T080000
DTEND;TZID=America/New_York:20160310T170000
DTSTAMP:20260420T001313
CREATED:20160208T003651Z
LAST-MODIFIED:20160208T003801Z
UID:23134-1457596800-1457629200@tcnynj.org
SUMMARY:Tibetan Uprising Day
DESCRIPTION:
URL:https://tcnynj.org/event/tibetan-uprising-day-2/
LOCATION:United Nations\, United Nations Headquaters\, New York\, 10017
CATEGORIES:Occassions,Protest,Rally
ATTACH;FMTTYPE=image/jpeg:https://tcnynj.org/wp-content/uploads/2016/02/image_large.jpeg
END:VEVENT
BEGIN:VEVENT
DTSTART;VALUE=DATE:20160213
DTEND;VALUE=DATE:20160214
DTSTAMP:20260420T001313
CREATED:20160208T003408Z
LAST-MODIFIED:20160208T004015Z
UID:23133-1455321600-1455407999@tcnynj.org
SUMMARY:Tibetan Losar (New Year)
DESCRIPTION:༄༅། །རྒྱལ་གཅེས་རིགས་ཞེན་ལྷག་བསམ་དར་དཀར་ཡུག་གཅིག་ནིའུ་ཡོག་དང་ནིའུ་འཇར་སི་སེར་སྐྱ་མི་མང་ཡོངས་ཀྱི་སྤྱན་ལམ་དུ། ཆེད་འབུལ། བོད་རྒྱལ་ལོ་ ༢༡༤༣ རབ་གནས་མེ་ཕོ་སྤྲེལ་ལོའི་གནམ་ལོ་གསར་དུ་བཞད་པའི་བཀྲ་ཤིས་དགྱེས་སྟོན་གྱི་མཛད་སྒོ་གུང་གསེང་སྟབས་བསྟུན་ལོ་གསར་ཚེས་ལྔ་ཉིན་ཏེ། ཕྱི་ལོ་ ༢༠༡༦ ཟླ་ ༢ ཚེས་ ༡༣ རེས་གཟའ་སྤེན་པ་ཉིན་སྔ་དྲོའི་ཆུ་ཚོད་ ༩ ནས་འགོ་འཛུགས་ཀྱིས་ཉིན་འཁྱོངས་ཨར་མེ་ནི་ཡན་ཅར་ཆེ་ཚོགས་ཁང་(Armenian Church 35th Street 2nd Avenue) ནང་གཟབ་རྒྱས་ངང་འཚོགས་རྒྱུ་ཡིན་ལགས་ན། དེ་ཉིན་སེར་སྐྱ་མི་མང་རྒན་གཞོན་བར་གསུམ་ཚང་མ་དུས་ཐོག་དགྱེས་ཕེབས་ཡོང་བ་ཞུ་རྒྱུའི་གསལ་བསྒྲགས་སུ། བོད་རིགས་སྤྱི་མཐུན་ཚོགས་པའི་རྒྱུན་ལས་ཐུན་མོང་གིས། ཕྱི་ལོ་ ༢༠༡༦ ཟླ་ ༡ ཚེས་ ༢༦ ལ་ཕུལ། \nTibetan Community of New York & New Jersey is organizing this year Tibetan Losar(year of fire-monkey 2143) public gathering on Saturday\, February 13\, 2016 at Armenien Church\, New York. \nWe have a whole day programs starting from morning 9am to 2am. Save the date and bring your friends and family to celebrate this important festival of Tibet. \nBrief Program Schedule:\n————————\n1) 9:00am to 12.30pm – Official Programs\n2) 12:30pm to 2:00pm – Lunch Break\n3) 2:00pm to 6:00pm – Cultural Show by Kyidug’s & Tibetan Language Schools.\n4) 6:00pm to 7:00 – Gorshey \nFund Raising programs start from 8:00 PM Onwards(Tickets $30/-)\n1) 8:00pm to 10:00pm- Singing Performances + EX-Tipa Cultural Show.\n2) 10:00pm to 2:00 am- Dance Party \nSincerely\,\n14th Executive Board Member’s\nTibetan Community of New York & New Jersey\, Inc.
URL:https://tcnynj.org/event/tibetan-losar-new-year/
LOCATION:Armenian Church\, 630 Second Avenue\, New York\, NY\, 10016\, United States
CATEGORIES:Celebrations,Losar,New Year,Occassions
ORGANIZER;CN="The Tibetan Community of New York & New Jersey":MAILTO:info@tcnynj.org
END:VEVENT
BEGIN:VEVENT
DTSTART;TZID=America/New_York:20150710T180000
DTEND;TZID=America/New_York:20150711T020000
DTSTAMP:20260420T001313
CREATED:20150609T174314Z
LAST-MODIFIED:20150609T174439Z
UID:23005-1436551200-1436580000@tcnynj.org
SUMMARY:80th Birthday Of H.H. The Dalai Lama - Day 1
DESCRIPTION:༄༅།། མཚུངས་མེད་བྱང་ཨ་རིའི་བོད་མི་སྤྱི་ནོར་༧གོང་ས་༧སྐྱབས་མགོན་ཆེན་པོ་མཆོག་ལ་བཀའ་དྲིན་རྗེས་དྲན་བརྟན་བཞུགས་འབུལ་ལམ་ཞུ་བར་ཞབས་བཅར་གནང་མཁན་ཡོངས་དང་། འདི་ཁུལ་གཏན་བཞུགས་མི་མང་ཡོངས་ཀྱི་སྙན་ལམ་དུ། སྟབས་གསོལ། ལྷ་མིའི་རྣམ་འདྲེན་༧སྐྱབས་མགོན་རྒྱལ་བའི་དབང་པོ་ཐམས་ཅད་མཁྱེན་ཅིང་གཟིགས་པ་ཆེན་པ་ོམཆོག་དགུང་གྲངས་བརྒྱད་ཅུར་ཕེབས་པའི་དགའ་སྟོན་ལ་ངོམ་པ་མེད་པར་དགའ་སྐྱིད་ཀྱི་དཔལ་ལ་ཅི་དགར་རོལ་ཕྱིར་དུ་འདི་ག་ནེའུ་ཡོག་དང་ནེའུ་འཇར་སི་བོད་རིགས་སྤྱི་མཐུན་ཚོགས་པ་དང་། ས་གནས་བོད་ཀྱི་གཞོན་ལྷན་ཐུན་མོང་ནས Armenian church ཚོགས་ཁང་ནང་སྤྲོ་ཚོགས་ཁག་གཉིས་གོ་སྒྲིག་ཞུས་ཡོད་པའི་ཁོངས་ནས་ཕྱི་ཟླ་༧ ཚེས་ ༡༠ རེས་གཟའ་པ་སངས་དགོང་དྲོ་ཆུ་ཚོད་ ༦ ནས་ཕྱེད་ཡོལ་མཚན་གྱི་ཆུ་ཚོད་ ༢ པ་བར་བོད་ཀྱི་ཐུན་མོང་མ་ཡིན་པའི་རིག་གཞུང་ནང་མ་སྟོད་གཞས་འཁྲབ་སྟོན་གཟིགས་འབུལ་ཞུ་རྒྱུ་དང་ཆབས་ཅིག སྒོར་གཞས་དང་། མཉམ་གཞས་ཁག་རྒན་གཞོན་བར་གསུམ་ཡོངས་ནས་མཉམ་ཞུགས་གནང་འཐུས་གོ་སྒྲིག་ཞུས་ཡོད་ལགས་པ་དང། ཕྱི་ཟླ་༧ ཚེས་ ༡༡ རེས་གཟའ་སྤེན་པའི་དགོང་དྲོ་ཆུ་ཚོད་ ༦ ནས་ཕྱེད་ཡོལ་མཚན་གྱི་ཆུ་ཚོད་ ༢ པ་བར་གཞས་པ་གཞས་མ་གྲགས་ཅན་ཁག་ཅིག་ནས་དེང་དུས་ཀྱི་རྐྱང་གཞས་འཁྲབ་སྟོན་གཟིགས་འབུལ་ཞུ་རྒྱུ་དང་ཆབས་ཅིག་ནུབ་ཕྱོགས་པའི་གཞས་དང་ཞབས་བྲོར་ཚང་མ་ཅི་དགར་རོལ་འཐུས་གོ་སྒྲིག་ཞུས་ཡོད་ལགས་ན་ཚང་མ་དགྱེས་ཕེབས་ཅི་ནས་ཡོང་བ་ཞུ། ཕྱི་ལོ་༢༠༡༥ ཟླ་ ༥ ཚེས་ ༢༩ ལ། \nTibetan Community of NY&NJ and Regional Tibetan Youth Congress of NY& NJ are jointly organizing the 80th birthday celebrations of His Holiness the Dalai Lama on July 10th & 11\, 2015( Friday & Saturday) from 06pm to 02am at Armenian church\, New York.
URL:https://tcnynj.org/event/80th-birthday-of-h-h-the-dalai-lama/
LOCATION:Armenian Church\, 630 Second Avenue\, New York\, NY\, 10016\, United States
CATEGORIES:Celebrations,Dalai Lama,Occassions
ATTACH;FMTTYPE=image/jpeg:https://tcnynj.org/wp-content/uploads/2014/12/His-Holiness-the-Dalai-Lama.jpg
ORGANIZER;CN="The Tibetan Community of New York & New Jersey":MAILTO:info@tcnynj.org
END:VEVENT
BEGIN:VEVENT
DTSTART;VALUE=DATE:20150310
DTEND;VALUE=DATE:20150311
DTSTAMP:20260420T001313
CREATED:20140914T013654Z
LAST-MODIFIED:20140914T015949Z
UID:22901-1425945600-1426031999@tcnynj.org
SUMMARY:Tibetan Uprising Day
DESCRIPTION:
URL:https://tcnynj.org/event/tibetan-uprising-day/
LOCATION:Phuntsok Deshe Hall\, 3201 57th Street\, Woodside\, NY\, 11377\, United States
CATEGORIES:Occassions,Protest,Rally
ATTACH;FMTTYPE=image/jpeg:https://tcnynj.org/wp-content/uploads/2014/09/protest1.jpg
ORGANIZER;CN="The Tibetan Community of New York & New Jersey":MAILTO:info@tcnynj.org
END:VEVENT
BEGIN:VEVENT
DTSTART;TZID=America/New_York:20150221T090000
DTEND;TZID=America/New_York:20150222T020000
DTSTAMP:20260420T001313
CREATED:20140914T012828Z
LAST-MODIFIED:20170205T180302Z
UID:22896-1424509200-1424570400@tcnynj.org
SUMMARY:Tibetan Wood - Sheep Losar 2015
DESCRIPTION:ལོ་གསར་མཛད་སྒོ་ནམ་ཚུགས་ཀྱི་གསལ་བསྒྲགས ། Tibetan Wood-Sheep Losar 2015 ! \n༄༅། །རྒྱལ་གཅེས་རིགས་ཞེན་ལྷག་བསམ་དར་དཀར་ཡུག་གཅིག་ནིའུ་ཡོག་དང་ནིའུ་འཇར་སི་སེར་སྐྱ་མི་མང་ཡོངས་ཀྱི་སྤྱན་ལམ་དུ། ཆེད་འབུལ། བོད་རྒྱལ་ལོ་ ༢༡༤༢ རབ་གནས་ཤིང་མོ་ལུག་གི་གནམ་ལོ་གསར་དུ་བཞད་པའི་བཀྲ་ཤིས་དགྱེས་སྟོན་གྱི་གཞུང་འབྲེལ་མཛད་སྒོ་གུང་གསེང་སྟབས་བསྟུན་ལོ་གསར་ཚེས་གསུམ་ཉིན་ཏེ། ཕྱི་ལོ་ ༢༠༡༥ ཟླ་ ༢ ཚེས་ ༢༡ རེས་གཟའ་སྤེན་པ་ཉིན་སྔ་དྲོའི་ཆུ་ཚོད་ ༩ ནས་འགོ་འཛུགས་ཀྱིས་ཉིན་འཁྱོངས་ཨར་མེ་ནི་ཡན་ཅར་ཆེ་ཚོགས་ཁང་(Armenian Church 35th Street 2nd Avenue) ནང་ཟབ་རྒྱས་ངང་འཚོགས་རྒྱུ་ཡིན་ལགས་ན། དེ་ཉིན་སེར་སྐྱ་མི་མང་རྒན་གཞོན་བར་གསུམ་ཚང་མ་དུས་ཐོག་དགྱེས་ཕེབས་ཡོང་བ་ཞུ་རྒྱུའི་གསལ་བསྒྲགས་སུ། བོད་རིགས་སྤྱི་མཐུན་ཚོགས་པའི་རྒྱུན་ལས་ཐུན་མོང་གིས། ཕྱི་ལོ་ ༢༠༡༥ ཟླ་ ༡ ཚེས་ ༡༠ ལ་ཕུལ། \nTibetan Community of New York & New Jersey is organizing this year “Tibetan Wood-Sheep Losar 2015” public gathering on Saturday\, February 21\, 2015 at Armenian Church. We have a whole day programs starting from morning 9am to 2am. So\, save the date and We will celebrate this important festival of Tibet together.
URL:https://tcnynj.org/event/tibetan-losar/
LOCATION:Armenian Church\, 630 Second Avenue\, New York\, NY\, 10016\, United States
CATEGORIES:Losar,New Year,Occassions
ATTACH;FMTTYPE=image/jpeg:https://tcnynj.org/wp-content/uploads/2014/09/losar1.jpg
ORGANIZER;CN="The Tibetan Community of New York & New Jersey":MAILTO:info@tcnynj.org
END:VEVENT
BEGIN:VEVENT
DTSTART;TZID=America/New_York:20141213T090000
DTEND;TZID=America/New_York:20141214T020000
DTSTAMP:20260420T001313
CREATED:20141207T234540Z
LAST-MODIFIED:20141207T234724Z
UID:22959-1418461200-1418522400@tcnynj.org
SUMMARY:25th Ann. of Nobel Prize for H.H. The Dalai Lama
DESCRIPTION:Tibetan Community of New York & New Jersey is organizing the 25th Anniversary of the conferment of the Nobel Peace Prize to His Holiness the 14th Dalai Lama on Saturday\, December 13\, 2014 at Armenian Church\, New York. \n༅། །རྒྱལ་གཅེས་ལྷག་བསམ་མཚུངས་མེད་ནེའུ་ཡོག་དང་ནེའུ་འཇར་སི་ཁུལ་སེར་སྐྱ་མི་མང་ཡོངས་ཀྱི་སྙན་ལམ་དུ། ཆེད་གསོལ། སྤྱི་ནོར་༸གོང་ས་༸སྐྱབས་མགོན་ཆེན་པོ་མཆོག་ལ་ནོ་བྷེལ་ཞི་བདེའི་གཟེངས་རྟགས་འབུལ་ལམ་ཞུས་ཏེ་མི་ལོ་ཉེར་ལྔ་འཁོར་བའི་དུས་ཆེན་གྱི་དགྱེས་སྟོན་མཛད་སྒོ་ཕྱི་ཟླ་ ༡༢ ཚེས་ ༡༣ རེས་གཟའ་སྤེན་པ་ཉིན་སྔ་དྲོའི་ཕྱག་ཚོད་ ༩ པ་ནས་མཚན་གྱི་ཕྱེད་ཡོལ་ཕྱག་ཚོད་ ༢ པ་བར་ཚོགས་ཁང་ Armenian Church 35th Street 2nd Avenue ནང་ཟབ་རྒྱས་ངང་འཚུགས་རྒྱུ་ཡིན་ལགས་ན། དེ་ཉིན་སེར་སྐྱ་མི་མང་རྒན་གཞོན་བར་གསུམ་ཚང་མ་དུས་ཐོག་ངེས་ཕེབས་ཡོང་བ་ཞུ་རྒྱུའི་གསལ་བསྒྲགས་སུ། བོད་རིགས་སྤྱི་མཐུན་ཚོགས་པའི་རྒྱུན་ལས་ཐུན་མོང་གིས། ཕྱི་ལོ་ ༢༠༡༤ ཟླ་ ༡༢ ཚེས་ ༦ ལ་ཕུལ།
URL:https://tcnynj.org/event/25th-ann-of-nobel-prize-for-h-h-the-dalai-lama/
LOCATION:Armenian Church\, 630 Second Avenue\, New York\, NY\, 10016\, United States
CATEGORIES:Dalai Lama,Occassions
ATTACH;FMTTYPE=image/jpeg:https://tcnynj.org/wp-content/uploads/2014/12/His-Holiness-the-Dalai-Lama.jpg
ORGANIZER;CN="The Tibetan Community of New York & New Jersey":MAILTO:info@tcnynj.org
END:VEVENT
END:VCALENDAR